BEGIN:VCALENDAR
VERSION:2.0
PRODID:-//Sunshine State Figure Skating Club - ECPv6.15.20//NONSGML v1.0//EN
CALSCALE:GREGORIAN
METHOD:PUBLISH
X-ORIGINAL-URL:https://sunshinestatefsc.com
X-WR-CALDESC:Events for Sunshine State Figure Skating Club
REFRESH-INTERVAL;VALUE=DURATION:PT1H
X-Robots-Tag:noindex
X-PUBLISHED-TTL:PT1H
BEGIN:VTIMEZONE
TZID:UTC
BEGIN:STANDARD
TZOFFSETFROM:+0000
TZOFFSETTO:+0000
TZNAME:UTC
DTSTART:20230101T000000
END:STANDARD
END:VTIMEZONE
BEGIN:VEVENT
DTSTART;VALUE=DATE:20240701
DTEND;VALUE=DATE:20250601
DTSTAMP:20260421T190115
CREATED:20240717T150331Z
LAST-MODIFIED:20250611T151211Z
UID:409-1719792000-1748735999@sunshinestatefsc.com
SUMMARY:SSFSC Annual Events 2024-25
DESCRIPTION:SSFSC Annual Events for 2024-2025.
URL:https://sunshinestatefsc.com/event/ssfsc-annual-events-2024-25/
LOCATION:AdventHealth Center Ice\, 3173 Cypress Ridge Blvd\, Wesley Chapel\, FL\, 33544\, United States
ATTACH;FMTTYPE=image/png:https://sunshinestatefsc.com/wp-content/uploads/2024/07/Canva-Design.png
END:VEVENT
BEGIN:VEVENT
DTSTART;VALUE=DATE:20250308
DTEND;VALUE=DATE:20250309
DTSTAMP:20260421T190115
CREATED:20250210T180028Z
LAST-MODIFIED:20250210T225756Z
UID:1028-1741392000-1741478399@sunshinestatefsc.com
SUMMARY:2025 SWFFSC Spring Classic
DESCRIPTION:Southwest Florida Figure Skating Club \nEllenton\, FL \nEntryeeze:  https://comp.entryeeze.com/Home.aspx?cid=708 \nSaturday\, March 8\, 2025
URL:https://sunshinestatefsc.com/event/2025-swffsc-spring-classic/
LOCATION:FL
CATEGORIES:Competition
END:VEVENT
END:VCALENDAR