BEGIN:VCALENDAR
VERSION:2.0
PRODID:-//Sunshine State Figure Skating Club - ECPv6.15.20//NONSGML v1.0//EN
CALSCALE:GREGORIAN
METHOD:PUBLISH
X-WR-CALNAME:Sunshine State Figure Skating Club
X-ORIGINAL-URL:https://sunshinestatefsc.com
X-WR-CALDESC:Events for Sunshine State Figure Skating Club
REFRESH-INTERVAL;VALUE=DURATION:PT1H
X-Robots-Tag:noindex
X-PUBLISHED-TTL:PT1H
BEGIN:VTIMEZONE
TZID:UTC
BEGIN:STANDARD
TZOFFSETFROM:+0000
TZOFFSETTO:+0000
TZNAME:UTC
DTSTART:20240101T000000
END:STANDARD
END:VTIMEZONE
BEGIN:VEVENT
DTSTART;VALUE=DATE:20250601
DTEND;VALUE=DATE:20260601
DTSTAMP:20260422T164723
CREATED:20250611T151132Z
LAST-MODIFIED:20250611T151132Z
UID:1211-1748736000-1780271999@sunshinestatefsc.com
SUMMARY:SSFSC Annual Events 2025-26
DESCRIPTION:SSFSC Annual Events for 2025-2026.
URL:https://sunshinestatefsc.com/event/ssfsc-annual-events-2025-26/
LOCATION:FL
ATTACH;FMTTYPE=image/png:https://sunshinestatefsc.com/wp-content/uploads/2025/06/Copy-of-editable-11x14-pta-calendar.png.png
END:VEVENT
BEGIN:VEVENT
DTSTART;TZID=UTC:20260228T153000
DTEND;TZID=UTC:20260228T180000
DTSTAMP:20260422T164723
CREATED:20260120T220028Z
LAST-MODIFIED:20260121T015610Z
UID:1398-1772292600-1772301600@sunshinestatefsc.com
SUMMARY:Spring Competition Simulation #1
DESCRIPTION:Date:  Saturday\, February 28th \nTime:  3:45-5:45 pm \nPrice:  $25 \nRegistration & Music Upload Deadline:  February 21st \nSkater Registration Link:  Activity search | AdventHealth Center Ice | Online Services \nPerform your competition or show program in a simulated competition environment. Skaters will be assigned to a warm-up group\, then followed by individual performances. This is a great opportunity for skaters to become more comfortable and confident in a competition setting\, and cheer on fellow club members. \nSkaters will be emailed by the Wednesday before with their assigned Warm-Up Group times. \nThis event can accommodate a maximum of 35 skates\, first come/first serve registration basis. \nMusic Upload Link: https://drive.google.com/drive/folders/1uJd7EBWKmdQx1FDgFJtX5bx0EJcMoRBz?usp=drive_link \nMusic File Format: Please follow this format for Music File Name in Submission “Last Name_First Name_Music Length” (Example: Doe_Jane_1:38)
URL:https://sunshinestatefsc.com/event/competition-simulation-2/
LOCATION:AdventHealth Center Ice\, 3173 Cypress Ridge Blvd\, Wesley Chapel\, FL\, 33544\, United States
CATEGORIES:Club Event
END:VEVENT
BEGIN:VEVENT
DTSTART;TZID=UTC:20260228T183000
DTEND;TZID=UTC:20260228T193000
DTSTAMP:20260422T164723
CREATED:20260124T230040Z
LAST-MODIFIED:20260227T031206Z
UID:1412-1772303400-1772307000@sunshinestatefsc.com
SUMMARY:Fundraiser Public Skate SSFSC
DESCRIPTION:Come skate for a great cause and support the Sunshine State Figure Skating Club! \nDate:  Saturday\, February 28 \nTime:  6:30 – 7:30 PM (1-hour public skating session) \nWhere:  AdventHealth Center Ice \nCost: $16.00 – per skater (includes skate rental) \nPurchase Tickets in Advance: Activity detail | AdventHealth Center Ice | Online Services \nBring friends and family and enjoy an hour of skating while supporting our club. A portion of the proceeds from this session will benefit SSFSC. \nCome skate\, have fun\, and support SSFSC!
URL:https://sunshinestatefsc.com/event/fundraiser-public-skate-ssfsc/
LOCATION:AdventHealth Center Ice\, 3173 Cypress Ridge Blvd\, Wesley Chapel\, FL\, 33544\, United States
CATEGORIES:Club Event
ATTACH;FMTTYPE=application/pdf:https://sunshinestatefsc.com/wp-content/uploads/2026/01/SSFSC-Spirit-Night-Flyer-Feb-26.pdf
END:VEVENT
END:VCALENDAR