BEGIN:VCALENDAR
VERSION:2.0
PRODID:-//Sunshine State Figure Skating Club - ECPv6.15.20//NONSGML v1.0//EN
CALSCALE:GREGORIAN
METHOD:PUBLISH
X-ORIGINAL-URL:https://sunshinestatefsc.com
X-WR-CALDESC:Events for Sunshine State Figure Skating Club
REFRESH-INTERVAL;VALUE=DURATION:PT1H
X-Robots-Tag:noindex
X-PUBLISHED-TTL:PT1H
BEGIN:VTIMEZONE
TZID:UTC
BEGIN:STANDARD
TZOFFSETFROM:+0000
TZOFFSETTO:+0000
TZNAME:UTC
DTSTART:20240101T000000
END:STANDARD
END:VTIMEZONE
BEGIN:VEVENT
DTSTART;VALUE=DATE:20250601
DTEND;VALUE=DATE:20260601
DTSTAMP:20260422T202006
CREATED:20250611T151132Z
LAST-MODIFIED:20250611T151132Z
UID:1211-1748736000-1780271999@sunshinestatefsc.com
SUMMARY:SSFSC Annual Events 2025-26
DESCRIPTION:SSFSC Annual Events for 2025-2026.
URL:https://sunshinestatefsc.com/event/ssfsc-annual-events-2025-26/
LOCATION:FL
ATTACH;FMTTYPE=image/png:https://sunshinestatefsc.com/wp-content/uploads/2025/06/Copy-of-editable-11x14-pta-calendar.png.png
END:VEVENT
BEGIN:VEVENT
DTSTART;VALUE=DATE:20260418
DTEND;VALUE=DATE:20260419
DTSTAMP:20260422T202006
CREATED:20260226T220043Z
LAST-MODIFIED:20260301T213706Z
UID:1465-1776470400-1776556799@sunshinestatefsc.com
SUMMARY:Stars on Ice – SSFSC Group Outing
DESCRIPTION:Date: April 18\, 2026Location: Kia Center – Orlando\, FL \nSunshine State Figure Skating Club has secured 100 reserved seats for Stars on Ice at the Kia Center in Orlando! \nWe selected seats in the mid-level price range at $64.78 per ticket\, which includes all arena facility fees and taxes. Tickets are available on a first-come\, first-served basis until our reserved block is filled. \nPurchase Deadline: March 16\, 2026 \nPlease note: All sales are final. No refunds will be issued after purchase. This is a group outing and not a fundraiser event. \nIf ticket sales qualify our group for the Pre-Show Stargazer Session (which includes an Ice Breaker Q&A with two members of the Stars on Ice cast)\, additional meeting time and location details will be shared closer to the event date. \nHow to Purchase Tickets:\n\nVisit: https://comp.entryeeze.com/Membership/Welcome.aspx?cid=446\nLog into your Entryeeze account\nGo to the Merchandise tab\nSelect Available Merchandise\nPurchase Stars on Ice tickets\n\nWe’re looking forward to a fun and memorable club outing and hope many of our skating families can join us!
URL:https://sunshinestatefsc.com/event/stars-on-ice-ssfsc-group-outing/
LOCATION:Kia Center\, 400 W Church St\, Orlando\, FL\, 32801\, United States
CATEGORIES:Club Event
ATTACH;FMTTYPE=image/jpeg:https://sunshinestatefsc.com/wp-content/uploads/2026/02/1920x1080-generic-StarsonIce2026.jpg
END:VEVENT
END:VCALENDAR