BEGIN:VCALENDAR
VERSION:2.0
PRODID:-//Sunshine State Figure Skating Club - ECPv6.15.20//NONSGML v1.0//EN
CALSCALE:GREGORIAN
METHOD:PUBLISH
X-WR-CALNAME:Sunshine State Figure Skating Club
X-ORIGINAL-URL:https://sunshinestatefsc.com
X-WR-CALDESC:Events for Sunshine State Figure Skating Club
REFRESH-INTERVAL;VALUE=DURATION:PT1H
X-Robots-Tag:noindex
X-PUBLISHED-TTL:PT1H
BEGIN:VTIMEZONE
TZID:UTC
BEGIN:STANDARD
TZOFFSETFROM:+0000
TZOFFSETTO:+0000
TZNAME:UTC
DTSTART:20240101T000000
END:STANDARD
END:VTIMEZONE
BEGIN:VEVENT
DTSTART;VALUE=DATE:20250516
DTEND;VALUE=DATE:20250519
DTSTAMP:20260421T184550
CREATED:20250210T180518Z
LAST-MODIFIED:20250507T005639Z
UID:1030-1747353600-1747612799@sunshinestatefsc.com
SUMMARY:2025 Sunshine State Challenge
DESCRIPTION:While the Sunshine State Games Figure Skating Event will not occur this year\, AdventHealth Center Ice and the Sunshine State FSC will be hosting a similar event on May 15-18 called: \nThe Sunshine State Challenge\nRegistrations is now open!  ONLINE REGISTRATION VIA ENTRYEEZE\nRegistration Deadline: 04/13/25 @ 11:59 PM ET or when competition reaches capacity. \nOFFICIAL WEBSITE & UPDATES:  https://ahcenterice.com/the-sunshine-state-challenge/?cn-reloaded=1 \n* * * VOLUNTEERS NEEDED * * * \nInterested in helping out? Sign up here for volunteer opportunities!
URL:https://sunshinestatefsc.com/event/2025-sunshine-state-challenge-competition/
LOCATION:AdventHealth Center Ice\, 3173 Cypress Ridge Blvd\, Wesley Chapel\, FL\, 33544\, United States
CATEGORIES:Competition
END:VEVENT
END:VCALENDAR