BEGIN:VCALENDAR
VERSION:2.0
PRODID:-//Sunshine State Figure Skating Club - ECPv6.15.20//NONSGML v1.0//EN
CALSCALE:GREGORIAN
METHOD:PUBLISH
X-ORIGINAL-URL:https://sunshinestatefsc.com
X-WR-CALDESC:Events for Sunshine State Figure Skating Club
REFRESH-INTERVAL;VALUE=DURATION:PT1H
X-Robots-Tag:noindex
X-PUBLISHED-TTL:PT1H
BEGIN:VTIMEZONE
TZID:UTC
BEGIN:STANDARD
TZOFFSETFROM:+0000
TZOFFSETTO:+0000
TZNAME:UTC
DTSTART:20240101T000000
END:STANDARD
END:VTIMEZONE
BEGIN:VEVENT
DTSTART;VALUE=DATE:20251024
DTEND;VALUE=DATE:20251026
DTSTAMP:20260421T093131
CREATED:20250606T123155Z
LAST-MODIFIED:20251024T150027Z
UID:1179-1761264000-1761436799@sunshinestatefsc.com
SUMMARY:Sunshine State Synchro Classic
DESCRIPTION:We can’t wait to see you here in sunny Florida!\nFollowing a successful inaugural Sunshine State Synchro Classic last October\, we are excited to be hosting the competition again this year! Plan to bring your team for a weekend of USFS-sanctioned synchronized skating that’s hotter than the Florida sun. From Aspire to Senior levels\, with 6.0 and IJS judging. On-ice critiques with judges at rink-side will be available. \nMark your calendars for October 24-25\, 2025. \nHosted by: the Sunshine State Figure Skating Club and AdventHealth Center Ice in Wesley Chapel\, FL. \nCompetition Link:  https://sunshinestatefsc.com/sunshine-state-synchro-classic/
URL:https://sunshinestatefsc.com/event/sunshine-state-synchro-classic-2/
LOCATION:AdventHealth Center Ice\, 3173 Cypress Ridge Blvd\, Wesley Chapel\, FL\, 33544\, United States
CATEGORIES:Club Event,Competition
ATTACH;FMTTYPE=image/png:https://sunshinestatefsc.com/wp-content/uploads/2024/07/Synchronized-Skating-logo-FULL-COLOR-FINAL-01.png
END:VEVENT
END:VCALENDAR