BEGIN:VCALENDAR
VERSION:2.0
PRODID:-//Sunshine State Figure Skating Club - ECPv6.15.20//NONSGML v1.0//EN
CALSCALE:GREGORIAN
METHOD:PUBLISH
X-WR-CALNAME:Sunshine State Figure Skating Club
X-ORIGINAL-URL:https://sunshinestatefsc.com
X-WR-CALDESC:Events for Sunshine State Figure Skating Club
REFRESH-INTERVAL;VALUE=DURATION:PT1H
X-Robots-Tag:noindex
X-PUBLISHED-TTL:PT1H
BEGIN:VTIMEZONE
TZID:UTC
BEGIN:STANDARD
TZOFFSETFROM:+0000
TZOFFSETTO:+0000
TZNAME:UTC
DTSTART:20250101T000000
END:STANDARD
END:VTIMEZONE
BEGIN:VEVENT
DTSTART;VALUE=DATE:20260320
DTEND;VALUE=DATE:20260321
DTSTAMP:20260421T005128
CREATED:20251117T183418Z
LAST-MODIFIED:20251117T214040Z
UID:1328-1773964800-1774051199@sunshinestatefsc.com
SUMMARY:March Virtual Test Session
DESCRIPTION:Registration Opens – The 1st of the month. \nVideo Submission Deadline: Wednesday\, Mar. 18\, 2026 at 11:59pm EST. \nPlease login to your membership account to register a family member for this test session. \nRegistration available via the SSFSC Entryeeze: https://comp.entryeeze.com/Membership/Welcome.aspx?cid=447
URL:https://sunshinestatefsc.com/event/march-virtual-test-session-2/
LOCATION:AdventHealth Center Ice\, 3173 Cypress Ridge Blvd\, Wesley Chapel\, FL\, 33544\, United States
CATEGORIES:Virtual Test Session
ATTACH;FMTTYPE=image/png:https://sunshinestatefsc.com/wp-content/uploads/2024/09/VirtualTestSessionGraphic.png
END:VEVENT
END:VCALENDAR