BEGIN:VCALENDAR
VERSION:2.0
PRODID:-//Sunshine State Figure Skating Club - ECPv6.15.20//NONSGML v1.0//EN
CALSCALE:GREGORIAN
METHOD:PUBLISH
X-ORIGINAL-URL:https://sunshinestatefsc.com
X-WR-CALDESC:Events for Sunshine State Figure Skating Club
REFRESH-INTERVAL;VALUE=DURATION:PT1H
X-Robots-Tag:noindex
X-PUBLISHED-TTL:PT1H
BEGIN:VTIMEZONE
TZID:UTC
BEGIN:STANDARD
TZOFFSETFROM:+0000
TZOFFSETTO:+0000
TZNAME:UTC
DTSTART:20240101T000000
END:STANDARD
END:VTIMEZONE
BEGIN:VEVENT
DTSTART;VALUE=DATE:20250601
DTEND;VALUE=DATE:20260601
DTSTAMP:20260423T000656
CREATED:20250611T151132Z
LAST-MODIFIED:20250611T151132Z
UID:1211-1748736000-1780271999@sunshinestatefsc.com
SUMMARY:SSFSC Annual Events 2025-26
DESCRIPTION:SSFSC Annual Events for 2025-2026.
URL:https://sunshinestatefsc.com/event/ssfsc-annual-events-2025-26/
LOCATION:FL
ATTACH;FMTTYPE=image/png:https://sunshinestatefsc.com/wp-content/uploads/2025/06/Copy-of-editable-11x14-pta-calendar.png.png
END:VEVENT
BEGIN:VEVENT
DTSTART;VALUE=DATE:20260514
DTEND;VALUE=DATE:20260518
DTSTAMP:20260423T000656
CREATED:20260226T221020Z
LAST-MODIFIED:20260327T141036Z
UID:1470-1778716800-1779062399@sunshinestatefsc.com
SUMMARY:2026 Sunshine State Games
DESCRIPTION:Date: May 14–17\, 2026 \nVenue: AdventHealth Center Ice \nAddress: 3173 Cypress Ridge Blvd\, Wesley Chapel\, FL 33544 \nREGISTRATION IS NOW OPEN: https://comp.entryeeze.com/Home.aspx?cid=712 \nEntry Deadline: Friday\, April 17\, 2026 by 11:59 PM (US/Eastern) \nCLICK HERE for the 2026 Sunshine State Games Figure Skating Announcement \nCompetitive skaters\, families\, coaches\, and spectators can learn more about the overall Games at the official Sunshine State Games website: https://sunshinestategames.com/figure-skating/
URL:https://sunshinestatefsc.com/event/2026-sunshine-state-games/
LOCATION:AdventHealth Center Ice\, 3173 Cypress Ridge Blvd\, Wesley Chapel\, FL\, 33544\, United States
CATEGORIES:Competition
END:VEVENT
BEGIN:VEVENT
DTSTART;VALUE=DATE:20260515
DTEND;VALUE=DATE:20260516
DTSTAMP:20260423T000656
CREATED:20260121T220027Z
LAST-MODIFIED:20260122T004142Z
UID:1405-1778803200-1778889599@sunshinestatefsc.com
SUMMARY:May Virtual Test Session
DESCRIPTION:Registration Opens – The 1st of the month. \nVideo Submission Deadline: Wednesday\, May 13\, 2026 at 11:59pm EST. \nPlease login to your membership account to register a family member for this test session. \nRegistration available via the SSFSC Entryeeze: https://comp.entryeeze.com/Membership/Welcome.aspx?cid=447
URL:https://sunshinestatefsc.com/event/may-virtual-test-session/
LOCATION:AdventHealth Center Ice\, 3173 Cypress Ridge Blvd\, Wesley Chapel\, FL\, 33544\, United States
CATEGORIES:Virtual Test Session
ATTACH;FMTTYPE=image/png:https://sunshinestatefsc.com/wp-content/uploads/2024/09/VirtualTestSessionGraphic.png
END:VEVENT
BEGIN:VEVENT
DTSTART;TZID=UTC:20260530T080000
DTEND;TZID=UTC:20260530T170000
DTSTAMP:20260423T000656
CREATED:20260121T220042Z
LAST-MODIFIED:20260306T155920Z
UID:1407-1780128000-1780160400@sunshinestatefsc.com
SUMMARY:Miller & Brenner Figure Skating Camp
DESCRIPTION:Join us for a great day of skating with amazing coaches! The talented Diane Miller and Jackie Brenner help guide skaters through new and exciting sessions\, strengthening their skills and love for skating! \nDate:  Saturday\, May 30\, 2026 \nPricing:\nSSFSC Members:  $175+tax\nNon-Members:  $225+tax \nAthletes will be grouped by ability. \nCamp Schedule:\n8:15 am:                   Registration\n8:45 am:                   Introduction and Group Photos\n9:00 am – 5:00 pm:  Camp \nOptional Additions:\nLunch from TopShelf Sports Lounge at $12.00+tax per meal\nPrivate lessons available with Diane and Jackie at $60/30 min. (Available Friday afternoon\, Saturday morning\, & Sunday morning) \nClick here for additional details. \nRegister at this link:  https://anc.apm.activecommunities.com/ahcenterice/activity/search/detail/12534?onlineSiteId=0&from_original_cui=true \nIf you have questions\, please contact: Skating@AHCenterIce.com
URL:https://sunshinestatefsc.com/event/miller-brenner-figure-skating-camp-2/
LOCATION:AdventHealth Center Ice\, 3173 Cypress Ridge Blvd\, Wesley Chapel\, FL\, 33544\, United States
CATEGORIES:Club Event
END:VEVENT
END:VCALENDAR