BEGIN:VCALENDAR
VERSION:2.0
PRODID:-//Sunshine State Figure Skating Club - ECPv6.15.20//NONSGML v1.0//EN
CALSCALE:GREGORIAN
METHOD:PUBLISH
X-WR-CALNAME:Sunshine State Figure Skating Club
X-ORIGINAL-URL:https://sunshinestatefsc.com
X-WR-CALDESC:Events for Sunshine State Figure Skating Club
REFRESH-INTERVAL;VALUE=DURATION:PT1H
X-Robots-Tag:noindex
X-PUBLISHED-TTL:PT1H
BEGIN:VTIMEZONE
TZID:UTC
BEGIN:STANDARD
TZOFFSETFROM:+0000
TZOFFSETTO:+0000
TZNAME:UTC
DTSTART:20230101T000000
END:STANDARD
END:VTIMEZONE
BEGIN:VEVENT
DTSTART;VALUE=DATE:20251006
DTEND;VALUE=DATE:20251007
DTSTAMP:20260422T223819
CREATED:20250606T115926Z
LAST-MODIFIED:20250606T115926Z
UID:1199-1759708800-1759795199@sunshinestatefsc.com
SUMMARY:National Coaches Day
DESCRIPTION:NATIONAL COACHES DAY\nNational Coaches Day on October 6 honors the men and women who inspire us to work harder and do our best. \n#NationalCoachesDay
URL:https://sunshinestatefsc.com/event/national-coaches-day-2/
LOCATION:AdventHealth Center Ice\, 3173 Cypress Ridge Blvd\, Wesley Chapel\, FL\, 33544\, United States
END:VEVENT
BEGIN:VEVENT
DTSTART;TZID=UTC:20250927T110000
DTEND;TZID=UTC:20250927T140000
DTSTAMP:20260422T223819
CREATED:20250815T195859Z
LAST-MODIFIED:20250916T024030Z
UID:1277-1758970800-1758981600@sunshinestatefsc.com
SUMMARY:Fall Festival
DESCRIPTION:Sunshine State Figure Skating Club Fall Festival \nWe’re excited to host a Fall Festival for our figure skating club – a fun afternoon filled with games\, crafts\, pizza and refreshments for skaters and their families! \nWhen: Saturday\, September 27Time: 11:00 AM – 2:00 PMWhere: 3032 Collier Pkwy\, Land O Lakes\, FL 34639 – Pavilion #1 \nWe’d love to know if your family can attend so we can plan for food\, activities\, and supplies. Just RSVP here by Friday 9/26 to let us know you’re coming! \nThere are also a few optional volunteer spots to sign up for in the Signup Genius if you’d like to help out with a craft or game station.
URL:https://sunshinestatefsc.com/event/fall-festival/
LOCATION:Land O Lakes Rec Center\, 3032 Collier Pkwy\, Land O Lakes\, FL\, 34639\, United States
CATEGORIES:Club Event
END:VEVENT
BEGIN:VEVENT
DTSTART;VALUE=DATE:20250919
DTEND;VALUE=DATE:20250920
DTSTAMP:20260422T223819
CREATED:20250606T114405Z
LAST-MODIFIED:20250606T124204Z
UID:1177-1758240000-1758326399@sunshinestatefsc.com
SUMMARY:September Virtual Test Session
DESCRIPTION:Registration Opens – The 1st of the month. \nVideo Submission Deadline: Wednesday\, Sept. 17\, 2025 at 11:59pm EST. \nPlease login to your membership account to register a family member for this test session. \nRegistration available via the SSFSC Entryeeze: https://comp.entryeeze.com/Membership/Welcome.aspx?cid=447
URL:https://sunshinestatefsc.com/event/september-virtual-test-session-2/
LOCATION:AdventHealth Center Ice\, 3173 Cypress Ridge Blvd\, Wesley Chapel\, FL\, 33544\, United States
CATEGORIES:Virtual Test Session
ATTACH;FMTTYPE=image/png:https://sunshinestatefsc.com/wp-content/uploads/2024/09/VirtualTestSessionGraphic.png
END:VEVENT
BEGIN:VEVENT
DTSTART;TZID=UTC:20250904T150000
DTEND;TZID=UTC:20250904T200000
DTSTAMP:20260422T223819
CREATED:20250729T171908Z
LAST-MODIFIED:20250729T171908Z
UID:1245-1756998000-1757016000@sunshinestatefsc.com
SUMMARY:Cane's Fundraiser
DESCRIPTION:Raising Cane’s Fundraiser \nfor \nSunshine State Figure Skating Club \n15% of event sales get donated to the club \nWhen:  Thursday\, September 4\, 2025 \nTime:  3:00 – 8:00 PM \nWhere:  25952 FL-56\, Lutz\, FL 33559 \nMention the fundraiser at the restaurant or apply code RCFUND96 when ordering online or on app orders at checkout and Cane’s will donate 15% of Net Sales \nClick below ↓ to add the event to your calendar.
URL:https://sunshinestatefsc.com/event/canes-fundraiser/
LOCATION:Raising Cane’s Chicken Fingers\, 25952 FL-56\, Lutz\, FL\, 33559\, United States
ATTACH;FMTTYPE=application/pdf:https://sunshinestatefsc.com/wp-content/uploads/2025/07/Sunshine-State-Figure-Skating-Club-9.4.25_Fundraiser_Mobile_Flyer.pdf
END:VEVENT
BEGIN:VEVENT
DTSTART;VALUE=DATE:20250816
DTEND;VALUE=DATE:20250817
DTSTAMP:20260422T223819
CREATED:20250514T192225Z
LAST-MODIFIED:20250816T021015Z
UID:1151-1755302400-1755388799@sunshinestatefsc.com
SUMMARY:2nd Annual SSFSC Basic Skills Competition
DESCRIPTION:Mark your calendars! We are so excited to announce that we will be hosting our \n2nd Annual Sunshine State FSC Basic Skills Competition!\nWhen:  Saturday\, August 16\, 2025 \nWhere:  AdventHealth Center Ice \nRegistration Deadline: Saturday\, July 26\, 2025; 11:59 PM (US/Eastern) \nLATE ENTRY Deadline: Tuesday\, July 29\, 2025; 11:59 PM (US/Eastern) (The late fee for entries is: $35.00) \nRegistration Link: https://comp.entryeeze.com/Home.aspx?cid=913 \nLive results Link: https://ijs.usfigureskating.org/leaderboard/nonqual_results/2025/36361/index.html \nVolunteer Signup: https://www.signupgenius.com/go/10C0A4DAAAB22A3F9C52-57776179-2ndannual \nClick below ↓ to add the event to your calendar.
URL:https://sunshinestatefsc.com/event/annual-ssfsc-basic-skills-competition-2/
LOCATION:AdventHealth Center Ice\, 3173 Cypress Ridge Blvd\, Wesley Chapel\, FL\, 33544\, United States
CATEGORIES:Competition
ATTACH;FMTTYPE=image/jpeg:https://sunshinestatefsc.com/wp-content/uploads/2025/05/IMG_5968.jpeg
END:VEVENT
BEGIN:VEVENT
DTSTART;TZID=UTC:20250804T180000
DTEND;TZID=UTC:20250804T200000
DTSTAMP:20260422T223819
CREATED:20250606T113928Z
LAST-MODIFIED:20250728T194932Z
UID:1175-1754330400-1754337600@sunshinestatefsc.com
SUMMARY:Parent Education Meeting/Improv Skating
DESCRIPTION:When: August 4\, 2025 \nClick here to RSVP! \nImprov Skate: 6:00-7:00pm (Mini Rink) \nDuring this session\, skaters will take the ice in small groups to create and perform spontaneous routines. Each group will have up to 10 minutes on the ice to explore movement\, respond to music\, and showcase their creativity in a supportive and fun environment. Coaches will guide the flow of the session and may provide optional prompts or themes to help inspire the improv performances. Family members are welcome to observe and cheer on our skaters rink side! \nParent Meeting: 7:00-8:00pm in the Multipurpose Room (MPR) \nFollowing the improv session\, we invite parents to stay for a brief Parent Meeting from 7:00-8:00PM. We’ll share club updates\, explore the various developmental pathways and opportunities available to your skater\, and provide time for questions. \nPizza and light refreshments will be served!
URL:https://sunshinestatefsc.com/event/parent-education-meeting-improv-skating/
LOCATION:AdventHealth Center Ice\, 3173 Cypress Ridge Blvd\, Wesley Chapel\, FL\, 33544\, United States
CATEGORIES:Club Event
END:VEVENT
BEGIN:VEVENT
DTSTART;VALUE=DATE:20250718
DTEND;VALUE=DATE:20250719
DTSTAMP:20260422T223819
CREATED:20250606T113004Z
LAST-MODIFIED:20250606T124225Z
UID:1174-1752796800-1752883199@sunshinestatefsc.com
SUMMARY:July Virtual Test Session
DESCRIPTION:Registration Opens – The 1st of the month. \nVideo Submission Deadline: Wednesday\, July 16\, 2025 at 11:59pm EST. \nPlease login to your membership account to register a family member for this test session. \nRegistration available via the SSFSC Entryeeze: https://comp.entryeeze.com/Membership/Welcome.aspx?cid=446
URL:https://sunshinestatefsc.com/event/july-virtual-test-session/
LOCATION:AdventHealth Center Ice\, 3173 Cypress Ridge Blvd\, Wesley Chapel\, FL\, 33544\, United States
CATEGORIES:Virtual Test Session
ATTACH;FMTTYPE=image/png:https://sunshinestatefsc.com/wp-content/uploads/2024/09/VirtualTestSessionGraphic.png
END:VEVENT
BEGIN:VEVENT
DTSTART;TZID=UTC:20250628T183000
DTEND;TZID=UTC:20250628T190000
DTSTAMP:20260422T223819
CREATED:20250606T200623Z
LAST-MODIFIED:20250606T200623Z
UID:1173-1751135400-1751137200@sunshinestatefsc.com
SUMMARY:Excel Nationals Send-Off
DESCRIPTION:Where: Party Room \nWhen: 6:30 pm – 7:00 pm \nPlease join us in the party room as we celebrate and support our skaters heading to the Excel Nationals! \nWe will gather for a special send-off to recognize their hard work and dedication. \nEnjoy cupcakes as we wish our skaters the very best in their upcoming performances. Your support means so much to our skaters!
URL:https://sunshinestatefsc.com/event/excel-nationals-send-off/
LOCATION:AdventHealth Center Ice\, 3173 Cypress Ridge Blvd\, Wesley Chapel\, FL\, 33544\, United States
CATEGORIES:Club Event
END:VEVENT
BEGIN:VEVENT
DTSTART;TZID=UTC:20250628T154500
DTEND;TZID=UTC:20250628T181500
DTSTAMP:20260422T223819
CREATED:20250606T112804Z
LAST-MODIFIED:20250606T112804Z
UID:1172-1751125500-1751134500@sunshinestatefsc.com
SUMMARY:Competition Simulation
DESCRIPTION:Perform your competition or show program in a simulated competition environment. Skaters will be assigned to a warm-up group\, then followed by individual performances. This is a great opportunity for skaters to become more comfortable and confident in a competition setting\, and cheer on fellow club members. \nPrice: $25 \nWhen: June 28th \nTime: 3:45-6:15pm \nRegistration & Music Submission Deadline:  June 21st \nRegistration Link:  https://anc.apm.activecommunities.com/ahcenterice/activity/search/detail/10780?onlineSiteId=0&from_original_cui=true \nMusic Submission Link:  https://drive.google.com/drive/folders/1l_cXvlfjNbea1PajJKHsn81RVbzip5Fo?usp=sharing \nMusic File Format: Please follow this format for Music File Name in Submission “Last Name_First Name_Music Length” (Example: Doe_Jane_1:38) \nSkaters will be emailed by the Wednesday before with their assigned Warm-Up Group times. \n*This event can accommodate a maximum of 50 skaters\, first come/first serve registration basis.
URL:https://sunshinestatefsc.com/event/competition-simulation/
LOCATION:AdventHealth Center Ice\, 3173 Cypress Ridge Blvd\, Wesley Chapel\, FL\, 33544\, United States
CATEGORIES:Club Event
END:VEVENT
BEGIN:VEVENT
DTSTART;TZID=UTC:20250609T190000
DTEND;TZID=UTC:20250609T200000
DTSTAMP:20260422T223819
CREATED:20250514T191402Z
LAST-MODIFIED:20250605T141054Z
UID:1144-1749495600-1749499200@sunshinestatefsc.com
SUMMARY:Annual SSFSC Meeting
DESCRIPTION:Mark your calendars! We will be hosting our Annual Club Meeting on Monday\, June 9\, 2024 at 7:00pm in the Multipurpose Room (MPR). \n  \nClick below ↓ to add the event to your calendar.
URL:https://sunshinestatefsc.com/event/annual-ssfsc-meeting/
LOCATION:AdventHealth Center Ice\, 3173 Cypress Ridge Blvd\, Wesley Chapel\, FL\, 33544\, United States
CATEGORIES:Club Event
END:VEVENT
BEGIN:VEVENT
DTSTART;VALUE=DATE:20250531
DTEND;VALUE=DATE:20250602
DTSTAMP:20260422T223819
CREATED:20250210T181552Z
LAST-MODIFIED:20250210T231407Z
UID:1035-1748649600-1748822399@sunshinestatefsc.com
SUMMARY:2025 South Florida Compete USA at Miami Open
DESCRIPTION:Miami FSC\nPresents \n2025 South Florida Compete USA at Miami Open\nMiami\, FL\nSaturday\, May 31 – Sunday\, June 1\, 2025 \nEntryeeze:  https://comp.entryeeze.com/Home.aspx?cid=193
URL:https://sunshinestatefsc.com/event/2025-south-florida-compete-usa-at-miami-open/
LOCATION:FL
CATEGORIES:Competition
END:VEVENT
BEGIN:VEVENT
DTSTART;TZID=UTC:20250518T123000
DTEND;TZID=UTC:20250518T153000
DTSTAMP:20260422T223819
CREATED:20250507T010540Z
LAST-MODIFIED:20250507T010540Z
UID:1136-1747571400-1747582200@sunshinestatefsc.com
SUMMARY:May Live Test Session
DESCRIPTION:May 18 Live Test Session\n\nSession Date:  Sunday\, May 18\, 2025      \nRegistration Deadline: Tue\, May 13\, 2025 11:59 PM \nPlease check with your skater’s coach before signing. \nIF YOU ARE A MEMBER\, please sign into your account before signing up for a test session.\nIF NOT A MEMBER\, please have your permission slip from your home club ready to submit. Please use the USFS form for permission. \nRegistration available via the SSFSC Entryeeze: https://comp.entryeeze.com/Membership/Welcome.aspx?cid=446
URL:https://sunshinestatefsc.com/event/may-live-test-session/
LOCATION:AdventHealth Center Ice\, 3173 Cypress Ridge Blvd\, Wesley Chapel\, FL\, 33544\, United States
CATEGORIES:Club Event
END:VEVENT
BEGIN:VEVENT
DTSTART;VALUE=DATE:20250516
DTEND;VALUE=DATE:20250519
DTSTAMP:20260422T223819
CREATED:20250210T180518Z
LAST-MODIFIED:20250507T005639Z
UID:1030-1747353600-1747612799@sunshinestatefsc.com
SUMMARY:2025 Sunshine State Challenge
DESCRIPTION:While the Sunshine State Games Figure Skating Event will not occur this year\, AdventHealth Center Ice and the Sunshine State FSC will be hosting a similar event on May 15-18 called: \nThe Sunshine State Challenge\nRegistrations is now open!  ONLINE REGISTRATION VIA ENTRYEEZE\nRegistration Deadline: 04/13/25 @ 11:59 PM ET or when competition reaches capacity. \nOFFICIAL WEBSITE & UPDATES:  https://ahcenterice.com/the-sunshine-state-challenge/?cn-reloaded=1 \n* * * VOLUNTEERS NEEDED * * * \nInterested in helping out? Sign up here for volunteer opportunities!
URL:https://sunshinestatefsc.com/event/2025-sunshine-state-challenge-competition/
LOCATION:AdventHealth Center Ice\, 3173 Cypress Ridge Blvd\, Wesley Chapel\, FL\, 33544\, United States
CATEGORIES:Competition
END:VEVENT
BEGIN:VEVENT
DTSTART;TZID=UTC:20250427T140000
DTEND;TZID=UTC:20250427T180000
DTSTAMP:20260422T223819
CREATED:20250109T220037Z
LAST-MODIFIED:20250330T021957Z
UID:887-1745762400-1745776800@sunshinestatefsc.com
SUMMARY:2025 Sunshine State FSC Banquet
DESCRIPTION:YOU’RE INVITED! \nJoin us for a celebration of our skaters’ achievements with dinner and dancing\, \nat the 2025 Sunshine State FSC Banquet. \nSkaters and Parents are invited to dress up and celebrate our skaters’ accomplishments. \nDate: Sunday\, April 27th\, 2025 \nTime: 2:00-6:00pm \nLocation: Heritage Springs Country Club \n11345 Robert Trent Jones Pkwy\, Trinity\, FL 34655 \nReserve your tickets by April 14th! \nTickets can be purchased via EntryEeze. Login to your account and select Merchandise. Then select 2025 Sunshine State FSC Banquet on the left.
URL:https://sunshinestatefsc.com/event/2025-sunshine-state-fsc-banquet/
LOCATION:Heritage Springs Country Club\, 11345 Robert Trent Jones Pkwy\, Trinity\, FL\, 34655\, United States
CATEGORIES:Club Event
ATTACH;FMTTYPE=image/jpeg:https://sunshinestatefsc.com/wp-content/uploads/2025/01/SavetheDate_2025BanquetInvitation_Socials-1.jpeg
END:VEVENT
BEGIN:VEVENT
DTSTART;TZID=UTC:20250426T153000
DTEND;TZID=UTC:20250426T180000
DTSTAMP:20260422T223819
CREATED:20250209T222428Z
LAST-MODIFIED:20250209T222428Z
UID:1022-1745681400-1745690400@sunshinestatefsc.com
SUMMARY:Competition Simulation - Spring #2
DESCRIPTION:Perform your competition or show program in a simulated competition environment.\nSkaters will be assigned to a warm-up group\, then followed by individual performances.\nThis is a great opportunity for skaters to become more comfortable and confident in a competition setting\, and cheer on fellow club members. \nPrice:  $25\nDates:\nSpring #1:  March 15th\nSpring #2:  April 26th\nTime:  3:30-6:00pm \nRegistration & Music Submission Deadlines*: \n   Spring #1: March 5th\nSpring #2: April 16th \nSkaters will be emailed by the Wednesday before with their assigned Warm-Up Group times. \nThis event can accommodate a maximum of 50 skaters\, first come/first serve registration basis. \n*Please check your emails for flyer with link to upload your music and instructions on naming your music file.
URL:https://sunshinestatefsc.com/event/competition-simulation-spring-2/
LOCATION:AdventHealth Center Ice\, 3173 Cypress Ridge Blvd\, Wesley Chapel\, FL\, 33544\, United States
END:VEVENT
BEGIN:VEVENT
DTSTART;TZID=UTC:20250415T170000
DTEND;TZID=UTC:20250415T210000
DTSTAMP:20260422T223819
CREATED:20250311T220047Z
LAST-MODIFIED:20250312T015021Z
UID:1076-1744736400-1744750800@sunshinestatefsc.com
SUMMARY:Chipotle Fundraiser
DESCRIPTION:Chipotle Fundraiser for\nSunshine State Figure Skating Club & Suncoast Skating Team \n25% of event sales get donated to the cause \nWhen:  Tuesday\, April 15 \nTime: 5-9 PM \nWhere: 25442 Sierra Center Blvd\, Lutz\, FL 33559 \nOrder online for pickup using code: 9VXFEG6 or show this flyer in restaurant.
URL:https://sunshinestatefsc.com/event/chipotle-fundraiser/
LOCATION:Chipotle\, 25442 Sierra Center Blvd\, Lutz\, FL\, 33559\, United States
CATEGORIES:Club Event
ATTACH;FMTTYPE=image/jpeg:https://sunshinestatefsc.com/wp-content/uploads/2025/03/Chipolte.jpg
END:VEVENT
BEGIN:VEVENT
DTSTART;VALUE=DATE:20250404
DTEND;VALUE=DATE:20250407
DTSTAMP:20260422T223819
CREATED:20250210T181516Z
LAST-MODIFIED:20250210T231032Z
UID:1033-1743724800-1743983999@sunshinestatefsc.com
SUMMARY:2025 Florida Open Figure Skating Championships
DESCRIPTION:2025 Florida Open Figure Skating Championships\nRDV Sportsplex Ice Den \nhttps://centralfloridafsc.org/
URL:https://sunshinestatefsc.com/event/2025-florida-open-figure-skating-championships/
LOCATION:FL
CATEGORIES:Competition
END:VEVENT
BEGIN:VEVENT
DTSTART;TZID=UTC:20250329T081500
DTEND;TZID=UTC:20250329T170000
DTSTAMP:20260422T223819
CREATED:20250210T202005Z
LAST-MODIFIED:20250211T011738Z
UID:1026-1743236100-1743267600@sunshinestatefsc.com
SUMMARY:Miller & Brenner Figure Skating Camp
DESCRIPTION:Join us for a great day of skating with amazing coaches! The talented Diane Miller and Jackie Brenner help guide skaters through new and exciting sessions\, strengthening their skills and love for skating! \nAthletes will be grouped by ability. \nPricing: \n• SSFSC Members: $175+tax \n• Non-Members: $225+tax \nCamp Schedule: \n8:15 am:  Registration \n8:45 am:  Introduction and Group Photos \n9:00 am – 5:00pm:  Camp \n*Please see check your emails for flyer with additional details. \nRegister at this link:  https://anc.apm.activecommunities.com/ahcenterice/activity/search/detail/9391?onlineSiteId=0&from_original_cui=true&locale=en-US \nIf you have questions\, please contact: Skating@AHCenterIce.com
URL:https://sunshinestatefsc.com/event/miller-brenner-figure-skating-camp/
LOCATION:AdventHealth Center Ice\, 3173 Cypress Ridge Blvd\, Wesley Chapel\, FL\, 33544\, United States
ATTACH;FMTTYPE=image/png:https://sunshinestatefsc.com/wp-content/uploads/2025/02/MILLER-BRENNER_CAMP_SM_v4-01.png
END:VEVENT
BEGIN:VEVENT
DTSTART;VALUE=DATE:20250321
DTEND;VALUE=DATE:20250322
DTSTAMP:20260422T223819
CREATED:20250210T230045Z
LAST-MODIFIED:20250211T032502Z
UID:1039-1742515200-1742601599@sunshinestatefsc.com
SUMMARY:March Virtual Test Session
DESCRIPTION:Video Submission Deadline: Wednesday\, March 19\, 2025 at 11:59pm EST. \nPlease login to your membership account to register a family member for this test session. \nRegistration available via the SSFSC Entryeeze: https://comp.entryeeze.com/Membership/Welcome.aspx?cid=446
URL:https://sunshinestatefsc.com/event/march-virtual-test-session/
LOCATION:AdventHealth Center Ice\, 3173 Cypress Ridge Blvd\, Wesley Chapel\, FL\, 33544\, United States
CATEGORIES:Virtual Test Session
ATTACH;FMTTYPE=image/png:https://sunshinestatefsc.com/wp-content/uploads/2024/09/VirtualTestSessionGraphic.png
END:VEVENT
BEGIN:VEVENT
DTSTART;TZID=UTC:20250315T153000
DTEND;TZID=UTC:20250315T180000
DTSTAMP:20260422T223819
CREATED:20250209T222308Z
LAST-MODIFIED:20250209T222308Z
UID:1020-1742052600-1742061600@sunshinestatefsc.com
SUMMARY:Competition Simulation – Spring #1
DESCRIPTION:Perform your competition or show program in a simulated competition environment.\nSkaters will be assigned to a warm-up group\, then followed by individual performances.\nThis is a great opportunity for skaters to become more comfortable and confident in a competition setting\, and cheer on fellow club members. \nPrice:  $25\nDates:\nSpring #1:  March 15th\nSpring #2:  April 26th\nTime:  3:30-6:00pm \nRegistration & Music Submission Deadlines*: \n   Spring #1: March 5th\nSpring #2: April 16th \nSkaters will be emailed by the Wednesday before with their assigned Warm-Up Group times. \nThis event can accommodate a maximum of 50 skaters\, first come/first serve registration basis. \n*Please check your emails for flyer with link to upload your music and instructions on naming your music file.
URL:https://sunshinestatefsc.com/event/competition-simulation-spring-1/
LOCATION:AdventHealth Center Ice\, 3173 Cypress Ridge Blvd\, Wesley Chapel\, FL\, 33544\, United States
END:VEVENT
BEGIN:VEVENT
DTSTART;VALUE=DATE:20250308
DTEND;VALUE=DATE:20250309
DTSTAMP:20260422T223819
CREATED:20250210T180028Z
LAST-MODIFIED:20250210T225756Z
UID:1028-1741392000-1741478399@sunshinestatefsc.com
SUMMARY:2025 SWFFSC Spring Classic
DESCRIPTION:Southwest Florida Figure Skating Club \nEllenton\, FL \nEntryeeze:  https://comp.entryeeze.com/Home.aspx?cid=708 \nSaturday\, March 8\, 2025
URL:https://sunshinestatefsc.com/event/2025-swffsc-spring-classic/
LOCATION:FL
CATEGORIES:Competition
END:VEVENT
BEGIN:VEVENT
DTSTART;TZID=UTC:20250207T183000
DTEND;TZID=UTC:20250207T203000
DTSTAMP:20260422T223819
CREATED:20250109T210046Z
LAST-MODIFIED:20250115T044702Z
UID:873-1738953000-1738960200@sunshinestatefsc.com
SUMMARY:Dress Sale
DESCRIPTION:This is a great opportunity to get new dresses before the upcoming competition season and support the SSFSC! \nDate:  Friday\, February 7th. \nTime: 6:30 – 8:30 pm \nWhere: Party Rooms \nAll dresses can be dropped off at the front desk at AdventHealth Center Ice starting 01/06/2025. \nClick for dress sale registration form and instructions and dress tags. \nContact: parent.ssfsc@gmail.com with any questions. \n 
URL:https://sunshinestatefsc.com/event/dress-sale/
LOCATION:AdventHealth Center Ice\, 3173 Cypress Ridge Blvd\, Wesley Chapel\, FL\, 33544\, United States
CATEGORIES:Club Event
END:VEVENT
BEGIN:VEVENT
DTSTART;TZID=UTC:20250207T183000
DTEND;TZID=UTC:20250207T203000
DTSTAMP:20260422T223819
CREATED:20250104T202047Z
LAST-MODIFIED:20250115T044108Z
UID:851-1738953000-1738960200@sunshinestatefsc.com
SUMMARY:Valentine Skate!
DESCRIPTION:Celebrate with Us on February 7th!\nGet ready for a fun-filled Valentine’s celebration! 🧡 \nIce Time: 7:00-8:00 PM on the Mini Rink \nLace up your skates and glide on our mini rink for a fun ice skating session with your friends! \nParty Room: 6:30-8:30 PM \nJoin us in the party room to decorate cookies and create your very own Valentine’s Day box!
URL:https://sunshinestatefsc.com/event/valentine-skate/
LOCATION:AdventHealth Center Ice\, 3173 Cypress Ridge Blvd\, Wesley Chapel\, FL\, 33544\, United States
END:VEVENT
BEGIN:VEVENT
DTSTART;TZID=UTC:20250120T193000
DTEND;TZID=UTC:20250120T210000
DTSTAMP:20260422T223819
CREATED:20250104T200533Z
LAST-MODIFIED:20250115T042924Z
UID:849-1737401400-1737406800@sunshinestatefsc.com
SUMMARY:Synchro Sectionals Send-off Exhibition
DESCRIPTION:Synchro Sectionals Send-Off Exhibition & Party!\nAll Members Welcome!\nJoin us for an exciting evening as we send off our synchro skaters to sectionals with a special exhibition! Come cheer on the teams during the Exhibition. \n   Date:  Monday\, Jan. 20th \n   Time:  7:30 – 8:00 pm \n   Where:  Rink D \nFollowed by a party from 8:00-9:00 PM to celebrate! Enjoy delicious cupcakes and great company! \nWe can’t wait to see you there!
URL:https://sunshinestatefsc.com/event/synchro-sectionals-send-off-exhibition/
LOCATION:AdventHealth Center Ice\, 3173 Cypress Ridge Blvd\, Wesley Chapel\, FL\, 33544\, United States
END:VEVENT
BEGIN:VEVENT
DTSTART;VALUE=DATE:20250117
DTEND;VALUE=DATE:20250118
DTSTAMP:20260422T223819
CREATED:20250109T200110Z
LAST-MODIFIED:20250116T005508Z
UID:884-1737072000-1737158399@sunshinestatefsc.com
SUMMARY:January Virtual Test Session
DESCRIPTION:Video Submission Deadline: Wednesday\, January 15\, 2024 at 11:59pm EST. \nPlease login to your membership account to register a family member for this test session. \nRegistration available via the SSFSC Entryeeze: https://comp.entryeeze.com/Membership/Welcome.aspx?cid=446
URL:https://sunshinestatefsc.com/event/january-virtual-test-session/
LOCATION:AdventHealth Center Ice\, 3173 Cypress Ridge Blvd\, Wesley Chapel\, FL\, 33544\, United States
CATEGORIES:Virtual Test Session
ATTACH;FMTTYPE=image/png:https://sunshinestatefsc.com/wp-content/uploads/2024/09/VirtualTestSessionGraphic.png
END:VEVENT
BEGIN:VEVENT
DTSTART;TZID=UTC:20250112T153000
DTEND;TZID=UTC:20250112T163000
DTSTAMP:20260422T223819
CREATED:20250104T194547Z
LAST-MODIFIED:20250112T033553Z
UID:847-1736695800-1736699400@sunshinestatefsc.com
SUMMARY:Frozen 5K-CANCELLED!
DESCRIPTION:Celebrate National Skating Month \n*** CANCELLED *** \nby joining us on  \nJanuary 12th 3:30-4:30PM \nAdventHealth Center Ice – Rink A \n 
URL:https://sunshinestatefsc.com/event/frozen-5k/
LOCATION:AdventHealth Center Ice\, 3173 Cypress Ridge Blvd\, Wesley Chapel\, FL\, 33544\, United States
END:VEVENT
BEGIN:VEVENT
DTSTART;VALUE=DATE:20241215
DTEND;VALUE=DATE:20241216
DTSTAMP:20260422T223819
CREATED:20240806T165126Z
LAST-MODIFIED:20241210T143917Z
UID:529-1734220800-1734307199@sunshinestatefsc.com
SUMMARY:Winter Show
DESCRIPTION:7th Annual Winter Show\nJoin us for our 7th Annual Winter Show! Immerse yourself in the holiday spirit with on-ice figure skating performances by local figure skaters and athletes. It’s the perfect family event this holiday season. \nSolo\, Duets & Group Performances to the sound of your favorite holiday music! \nPricing\n\nAdmission: $15 per person (children under 3 are free)\nVIP On-Ice Table of 4: $200 per table (Hor D’Oeuvers & Refreshments provided)\n\nShow Times:\n\nShow #1: 1:30pm\nShow #2: 6:00pm\n\nClick to purchase tickets! \nSignup to Volunteer here!
URL:https://sunshinestatefsc.com/event/ahci-winter-show/
LOCATION:AdventHealth Center Ice\, 3173 Cypress Ridge Blvd\, Wesley Chapel\, FL\, 33544\, United States
END:VEVENT
BEGIN:VEVENT
DTSTART;TZID=UTC:20241214T130000
DTEND;TZID=UTC:20241214T203000
DTSTAMP:20260422T223819
CREATED:20240806T164925Z
LAST-MODIFIED:20241210T143818Z
UID:527-1734181200-1734208200@sunshinestatefsc.com
SUMMARY:Winter Show Dress Rehearsal
DESCRIPTION:Please check your email for important information regarding the 2024 Winter Show Dress Rehearsal. \nSignup to Volunteer for Dress Rehearsal and the day of the show: https://www.signupgenius.com/go/10C0A4DAAAB22A3F9C52-53301999-ahci \n 
URL:https://sunshinestatefsc.com/event/winter-show-dress-rehearsal/
LOCATION:AdventHealth Center Ice\, 3173 Cypress Ridge Blvd\, Wesley Chapel\, FL\, 33544\, United States
END:VEVENT
BEGIN:VEVENT
DTSTART;VALUE=DATE:20241115
DTEND;VALUE=DATE:20241116
DTSTAMP:20260422T223819
CREATED:20241028T223802Z
LAST-MODIFIED:20241029T023448Z
UID:767-1731628800-1731715199@sunshinestatefsc.com
SUMMARY:November Virtual Test Session
DESCRIPTION:Video Submission Deadline: Wednesday\, November 13\, 2024 at 11:59pm EST. \nPlease login to your membership account to register a family member for this test session. \nRegistration available via the SSFSC Entryeeze: https://comp.entryeeze.com/Membership/Welcome.aspx?cid=446
URL:https://sunshinestatefsc.com/event/november-virtual-test-session-2/
LOCATION:AdventHealth Center Ice\, 3173 Cypress Ridge Blvd\, Wesley Chapel\, FL\, 33544\, United States
ATTACH;FMTTYPE=image/png:https://sunshinestatefsc.com/wp-content/uploads/2024/09/VirtualTestSessionGraphic.png
END:VEVENT
BEGIN:VEVENT
DTSTART;TZID=UTC:20241102T110000
DTEND;TZID=UTC:20241102T150000
DTSTAMP:20260422T223819
CREATED:20240806T163308Z
LAST-MODIFIED:20240806T163308Z
UID:518-1730545200-1730559600@sunshinestatefsc.com
SUMMARY:Friendsgiving
DESCRIPTION:Save the Date! \nWhere: Seven Oaks Clubhouse \nMore Information Coming Soon!
URL:https://sunshinestatefsc.com/event/friendsgiving/
LOCATION:Seven Oaks Clubhouse\, 2910 Sports Core Cir\, Wesley Chapel\, FL\, 33544\, United States
CATEGORIES:Club Event
END:VEVENT
END:VCALENDAR