BEGIN:VCALENDAR
VERSION:2.0
PRODID:-//Sunshine State Figure Skating Club - ECPv6.15.20//NONSGML v1.0//EN
CALSCALE:GREGORIAN
METHOD:PUBLISH
X-WR-CALNAME:Sunshine State Figure Skating Club
X-ORIGINAL-URL:https://sunshinestatefsc.com
X-WR-CALDESC:Events for Sunshine State Figure Skating Club
REFRESH-INTERVAL;VALUE=DURATION:PT1H
X-Robots-Tag:noindex
X-PUBLISHED-TTL:PT1H
BEGIN:VTIMEZONE
TZID:UTC
BEGIN:STANDARD
TZOFFSETFROM:+0000
TZOFFSETTO:+0000
TZNAME:UTC
DTSTART:20220101T000000
END:STANDARD
END:VTIMEZONE
BEGIN:VEVENT
DTSTART;VALUE=DATE:20240419
DTEND;VALUE=DATE:20240420
DTSTAMP:20260421T230315
CREATED:20231018T174845Z
LAST-MODIFIED:20231018T174845Z
UID:389-1713484800-1713571199@sunshinestatefsc.com
SUMMARY:April Virtual Test Session
DESCRIPTION:April 19th Virtual Test Session \nRegistration Deadline April 17th at 10:00pm EST \nRegistration available via the SSFSC Entryeeze:  https://comp.entryeeze.com/Membership/Welcome.aspx?cid=446
URL:https://sunshinestatefsc.com/event/april-virtual-test-session/
LOCATION:FL
END:VEVENT
BEGIN:VEVENT
DTSTART;VALUE=DATE:20240223
DTEND;VALUE=DATE:20240224
DTSTAMP:20260421T230315
CREATED:20231018T174745Z
LAST-MODIFIED:20231018T174745Z
UID:387-1708646400-1708732799@sunshinestatefsc.com
SUMMARY:February Virtual Test Session
DESCRIPTION:February 23rd Virtual Test Session \nRegistration Deadline February 21st at 10:00pm EST \nRegistration available via the SSFSC Entryeeze:  https://comp.entryeeze.com/Membership/Welcome.aspx?cid=446
URL:https://sunshinestatefsc.com/event/february-virtual-test-session/
LOCATION:FL
END:VEVENT
BEGIN:VEVENT
DTSTART;VALUE=DATE:20231110
DTEND;VALUE=DATE:20231111
DTSTAMP:20260421T230315
CREATED:20231018T174606Z
LAST-MODIFIED:20231018T174606Z
UID:384-1699574400-1699660799@sunshinestatefsc.com
SUMMARY:November Virtual Test Session
DESCRIPTION:November 10th Virtual Test Session \nRegistration Deadline November 8th at 10:00pm EST \nRegistration available via the SSFSC Entryeeze:  https://comp.entryeeze.com/Membership/Welcome.aspx?cid=446 \n 
URL:https://sunshinestatefsc.com/event/november-virtual-test-session/
LOCATION:FL
END:VEVENT
BEGIN:VEVENT
DTSTART;TZID=UTC:20231028T194500
DTEND;TZID=UTC:20231028T214500
DTSTAMP:20260421T230315
CREATED:20231023T155228Z
LAST-MODIFIED:20231023T155228Z
UID:394-1698522300-1698529500@sunshinestatefsc.com
SUMMARY:AHCI Hallowrink Theme Skate
DESCRIPTION:AdventHealth Center Ice is hosting a Hallowrink Theme Skate on Saturday\, October 28th from 7:45-9:45pm. SSFSC members receive $2 off the event. Please let the front desk know you are club member to receive the discount. \nThe club will have a table at the Frozen Candy Counter during the Hallowrink event so don’t forget to stop by to pick up candy!
URL:https://sunshinestatefsc.com/event/ahci-hallowrink-theme-skate/
LOCATION:AdventHealth Center Ice\, 3173 Cypress Ridge Blvd\, Wesley Chapel\, FL\, 33544\, United States
END:VEVENT
BEGIN:VEVENT
DTSTART;TZID=UTC:20231021T120000
DTEND;TZID=UTC:20231021T140000
DTSTAMP:20260421T230315
CREATED:20231018T173851Z
LAST-MODIFIED:20231018T173851Z
UID:381-1697889600-1697896800@sunshinestatefsc.com
SUMMARY:SSFSC Pumpkin Bash
DESCRIPTION:Saturday\, October 21\, 2023\n12:00pm – 2:00pm \nPavillion #1 \nLand’O Lakes Recreational Complex\n3032 Collier Parkway\nLand’O Lakes\, FL \nPut on your favorite costume and come and enjoy lots of pumpkin-themed fun. Don’t forget to bring your own pumpkin to decorate. And be sure to stop by the Kona Ice truck. This club event is at no cost to members and refreshments will be provided. We can’t wait to see you there! \nPlease RSVP by Friday\, October 20th \nhttp://evite.me/Y3bkdDHBkP
URL:https://sunshinestatefsc.com/event/ssfsc-pumpkin-bash/
LOCATION:FL
END:VEVENT
BEGIN:VEVENT
DTSTART;TZID=UTC:20230503T110000
DTEND;TZID=UTC:20230503T120000
DTSTAMP:20260421T230315
CREATED:20230503T223526Z
LAST-MODIFIED:20230503T223526Z
UID:73-1683111600-1683115200@sunshinestatefsc.com
SUMMARY:JCP
DESCRIPTION:
URL:https://sunshinestatefsc.com/event/jcp/
LOCATION:AdventHealth Center Ice\, 3173 Cypress Ridge Blvd\, Wesley Chapel\, FL\, 33544\, United States
CATEGORIES:Freestyle,Jr. Champions Program
END:VEVENT
BEGIN:VEVENT
DTSTART;TZID=UTC:20230503T073000
DTEND;TZID=UTC:20230503T083000
DTSTAMP:20260421T230315
CREATED:20230503T223442Z
LAST-MODIFIED:20230503T223541Z
UID:71-1683099000-1683102600@sunshinestatefsc.com
SUMMARY:Freestyle Session (O)
DESCRIPTION:
URL:https://sunshinestatefsc.com/event/freestyle-session-o-2/
LOCATION:AdventHealth Center Ice\, 3173 Cypress Ridge Blvd\, Wesley Chapel\, FL\, 33544\, United States
CATEGORIES:Freestyle,Open Level Session
END:VEVENT
BEGIN:VEVENT
DTSTART;TZID=UTC:20230503T063000
DTEND;TZID=UTC:20230503T073000
DTSTAMP:20260421T230315
CREATED:20230503T223350Z
LAST-MODIFIED:20230503T223607Z
UID:69-1683095400-1683099000@sunshinestatefsc.com
SUMMARY:Freestyle Session (O)
DESCRIPTION:
URL:https://sunshinestatefsc.com/event/freestyle-session-o/
LOCATION:AdventHealth Center Ice\, 3173 Cypress Ridge Blvd\, Wesley Chapel\, FL\, 33544\, United States
CATEGORIES:Freestyle,Open Level Session
END:VEVENT
END:VCALENDAR