BEGIN:VCALENDAR
VERSION:2.0
PRODID:-//Sunshine State Figure Skating Club - ECPv6.15.20//NONSGML v1.0//EN
CALSCALE:GREGORIAN
METHOD:PUBLISH
X-WR-CALNAME:Sunshine State Figure Skating Club
X-ORIGINAL-URL:https://sunshinestatefsc.com
X-WR-CALDESC:Events for Sunshine State Figure Skating Club
REFRESH-INTERVAL;VALUE=DURATION:PT1H
X-Robots-Tag:noindex
X-PUBLISHED-TTL:PT1H
BEGIN:VTIMEZONE
TZID:UTC
BEGIN:STANDARD
TZOFFSETFROM:+0000
TZOFFSETTO:+0000
TZNAME:UTC
DTSTART:20240101T000000
END:STANDARD
END:VTIMEZONE
BEGIN:VEVENT
DTSTART;VALUE=DATE:20250601
DTEND;VALUE=DATE:20260601
DTSTAMP:20260422T030507
CREATED:20250611T151132Z
LAST-MODIFIED:20250611T151132Z
UID:1211-1748736000-1780271999@sunshinestatefsc.com
SUMMARY:SSFSC Annual Events 2025-26
DESCRIPTION:SSFSC Annual Events for 2025-2026.
URL:https://sunshinestatefsc.com/event/ssfsc-annual-events-2025-26/
LOCATION:FL
ATTACH;FMTTYPE=image/png:https://sunshinestatefsc.com/wp-content/uploads/2025/06/Copy-of-editable-11x14-pta-calendar.png.png
END:VEVENT
BEGIN:VEVENT
DTSTART;TZID=UTC:20250804T180000
DTEND;TZID=UTC:20250804T200000
DTSTAMP:20260422T030507
CREATED:20250606T113928Z
LAST-MODIFIED:20250728T194932Z
UID:1175-1754330400-1754337600@sunshinestatefsc.com
SUMMARY:Parent Education Meeting/Improv Skating
DESCRIPTION:When: August 4\, 2025 \nClick here to RSVP! \nImprov Skate: 6:00-7:00pm (Mini Rink) \nDuring this session\, skaters will take the ice in small groups to create and perform spontaneous routines. Each group will have up to 10 minutes on the ice to explore movement\, respond to music\, and showcase their creativity in a supportive and fun environment. Coaches will guide the flow of the session and may provide optional prompts or themes to help inspire the improv performances. Family members are welcome to observe and cheer on our skaters rink side! \nParent Meeting: 7:00-8:00pm in the Multipurpose Room (MPR) \nFollowing the improv session\, we invite parents to stay for a brief Parent Meeting from 7:00-8:00PM. We’ll share club updates\, explore the various developmental pathways and opportunities available to your skater\, and provide time for questions. \nPizza and light refreshments will be served!
URL:https://sunshinestatefsc.com/event/parent-education-meeting-improv-skating/
LOCATION:AdventHealth Center Ice\, 3173 Cypress Ridge Blvd\, Wesley Chapel\, FL\, 33544\, United States
CATEGORIES:Club Event
END:VEVENT
BEGIN:VEVENT
DTSTART;VALUE=DATE:20250816
DTEND;VALUE=DATE:20250817
DTSTAMP:20260422T030507
CREATED:20250514T192225Z
LAST-MODIFIED:20250816T021015Z
UID:1151-1755302400-1755388799@sunshinestatefsc.com
SUMMARY:2nd Annual SSFSC Basic Skills Competition
DESCRIPTION:Mark your calendars! We are so excited to announce that we will be hosting our \n2nd Annual Sunshine State FSC Basic Skills Competition!\nWhen:  Saturday\, August 16\, 2025 \nWhere:  AdventHealth Center Ice \nRegistration Deadline: Saturday\, July 26\, 2025; 11:59 PM (US/Eastern) \nLATE ENTRY Deadline: Tuesday\, July 29\, 2025; 11:59 PM (US/Eastern) (The late fee for entries is: $35.00) \nRegistration Link: https://comp.entryeeze.com/Home.aspx?cid=913 \nLive results Link: https://ijs.usfigureskating.org/leaderboard/nonqual_results/2025/36361/index.html \nVolunteer Signup: https://www.signupgenius.com/go/10C0A4DAAAB22A3F9C52-57776179-2ndannual \nClick below ↓ to add the event to your calendar.
URL:https://sunshinestatefsc.com/event/annual-ssfsc-basic-skills-competition-2/
LOCATION:AdventHealth Center Ice\, 3173 Cypress Ridge Blvd\, Wesley Chapel\, FL\, 33544\, United States
CATEGORIES:Competition
ATTACH;FMTTYPE=image/jpeg:https://sunshinestatefsc.com/wp-content/uploads/2025/05/IMG_5968.jpeg
END:VEVENT
END:VCALENDAR