BEGIN:VCALENDAR
VERSION:2.0
PRODID:-//Sunshine State Figure Skating Club - ECPv6.15.20//NONSGML v1.0//EN
CALSCALE:GREGORIAN
METHOD:PUBLISH
X-WR-CALNAME:Sunshine State Figure Skating Club
X-ORIGINAL-URL:https://sunshinestatefsc.com
X-WR-CALDESC:Events for Sunshine State Figure Skating Club
REFRESH-INTERVAL;VALUE=DURATION:PT1H
X-Robots-Tag:noindex
X-PUBLISHED-TTL:PT1H
BEGIN:VTIMEZONE
TZID:UTC
BEGIN:STANDARD
TZOFFSETFROM:+0000
TZOFFSETTO:+0000
TZNAME:UTC
DTSTART:20240101T000000
END:STANDARD
END:VTIMEZONE
BEGIN:VEVENT
DTSTART;VALUE=DATE:20250601
DTEND;VALUE=DATE:20260601
DTSTAMP:20260422T105516
CREATED:20250611T151132Z
LAST-MODIFIED:20250611T151132Z
UID:1211-1748736000-1780271999@sunshinestatefsc.com
SUMMARY:SSFSC Annual Events 2025-26
DESCRIPTION:SSFSC Annual Events for 2025-2026.
URL:https://sunshinestatefsc.com/event/ssfsc-annual-events-2025-26/
LOCATION:FL
ATTACH;FMTTYPE=image/png:https://sunshinestatefsc.com/wp-content/uploads/2025/06/Copy-of-editable-11x14-pta-calendar.png.png
END:VEVENT
BEGIN:VEVENT
DTSTART;VALUE=DATE:20251206
DTEND;VALUE=DATE:20251207
DTSTAMP:20260422T105516
CREATED:20250606T123736Z
LAST-MODIFIED:20250606T123736Z
UID:1181-1764979200-1765065599@sunshinestatefsc.com
SUMMARY:AHCI Tree Lighting
DESCRIPTION:Save the Date! \nMore information coming soon! \n 
URL:https://sunshinestatefsc.com/event/ahci-tree-lighting/
LOCATION:AdventHealth Center Ice\, 3173 Cypress Ridge Blvd\, Wesley Chapel\, FL\, 33544\, United States
CATEGORIES:Club Event
END:VEVENT
BEGIN:VEVENT
DTSTART;TZID=UTC:20251207T120000
DTEND;TZID=UTC:20251207T170000
DTSTAMP:20260422T105516
CREATED:20250606T124007Z
LAST-MODIFIED:20251123T230828Z
UID:1182-1765108800-1765126800@sunshinestatefsc.com
SUMMARY:Winter Show Dress Rehearsal
DESCRIPTION:The theme of this year’s Winter Show is \nOnce Upon A Time\nDress Rehearsal: Sunday\, Dec. 7 \nShow #1: 12:00-2:00pm \nShow #2: 3:00-5:00pm \nShow Day: Sunday\, Dec. 14 \nShow #1: 1:00-3:00pm \nShow #2: 5:00-7:00pm \nRegistrations for Solos and Duets will open October 1st and close on November 1st! Capacity is limited and skaters may only participate in one Solo or Duet. Maximum music length is 2.5 minutes. Skaters will be notified on November 7th which show they will be a part of. \nThe link below is the Google Drive link where you will submit your music\, deadline is November 15th. Please submit it in the format provided here in the folder of your assigned show. (FIRSTNAME_LASTNAME_COACHNAME_MUSICLENGTH) https://drive.google.com/drive/folders/1B30GDRGZiFXyfssJJKVwe_GHuRhg9vyB  \nTicket Sales will be available to purchase on November 15th Guest Services/Active Network. \nPlease reach out to Skating@ahcenterice.com for more information. \nSignup to volunteer here: https://www.signupgenius.com/go/10C0A4DAAAB22A3F9C52-60437504-ahci#/
URL:https://sunshinestatefsc.com/event/winter-show-dress-rehearsal-2/
LOCATION:AdventHealth Center Ice\, 3173 Cypress Ridge Blvd\, Wesley Chapel\, FL\, 33544\, United States
CATEGORIES:Club Event
END:VEVENT
BEGIN:VEVENT
DTSTART;TZID=UTC:20251214T130000
DTEND;TZID=UTC:20251214T190000
DTSTAMP:20260422T105516
CREATED:20250606T124111Z
LAST-MODIFIED:20251123T230656Z
UID:1183-1765717200-1765738800@sunshinestatefsc.com
SUMMARY:Winter Show
DESCRIPTION:The theme of this year’s Winter Show is \nOnce Upon A Time\nDress Rehearsal: Sunday\, Dec. 7 \nShow #1: 12:00-2:00pm \nShow #2: 3:00-5:00pm \nShow Day: Sunday\, Dec. 14 \nShow #1: 1:00-3:00pm \nShow #2: 5:00-7:00pm \nRegistrations for Solos and Duets will open October 1st and close on November 1st! Capacity is limited and skaters may only participate in one Solo or Duet. Maximum music length is 2.5 minutes. Skaters will be notified on November 7th which show they will be a part of. \nThe link below is the Google Drive link where you will submit your music\, deadline is November 15th. Please submit it in the format provided here in the folder of your assigned show. (FIRSTNAME_LASTNAME_COACHNAME_MUSICLENGTH) https://drive.google.com/drive/folders/1B30GDRGZiFXyfssJJKVwe_GHuRhg9vyB  \nTicket Sales are available to purchase here: Activity Search | AdventHealth Center Ice | Online Services \nPlease reach out to Skating@ahcenterice.com for more information. \nSign up to volunteer here: https://www.signupgenius.com/go/10C0A4DAAAB22A3F9C52-60437504-ahci#/
URL:https://sunshinestatefsc.com/event/winter-show/
LOCATION:AdventHealth Center Ice\, 3173 Cypress Ridge Blvd\, Wesley Chapel\, FL\, 33544\, United States
CATEGORIES:Club Event
END:VEVENT
END:VCALENDAR