BEGIN:VCALENDAR
VERSION:2.0
PRODID:-//Sunshine State Figure Skating Club - ECPv6.15.20//NONSGML v1.0//EN
CALSCALE:GREGORIAN
METHOD:PUBLISH
X-WR-CALNAME:Sunshine State Figure Skating Club
X-ORIGINAL-URL:https://sunshinestatefsc.com
X-WR-CALDESC:Events for Sunshine State Figure Skating Club
REFRESH-INTERVAL;VALUE=DURATION:PT1H
X-Robots-Tag:noindex
X-PUBLISHED-TTL:PT1H
BEGIN:VTIMEZONE
TZID:UTC
BEGIN:STANDARD
TZOFFSETFROM:+0000
TZOFFSETTO:+0000
TZNAME:UTC
DTSTART:20240101T000000
END:STANDARD
END:VTIMEZONE
BEGIN:VEVENT
DTSTART;VALUE=DATE:20250601
DTEND;VALUE=DATE:20260601
DTSTAMP:20260422T125306
CREATED:20250611T151132Z
LAST-MODIFIED:20250611T151132Z
UID:1211-1748736000-1780271999@sunshinestatefsc.com
SUMMARY:SSFSC Annual Events 2025-26
DESCRIPTION:SSFSC Annual Events for 2025-2026.
URL:https://sunshinestatefsc.com/event/ssfsc-annual-events-2025-26/
LOCATION:FL
ATTACH;FMTTYPE=image/png:https://sunshinestatefsc.com/wp-content/uploads/2025/06/Copy-of-editable-11x14-pta-calendar.png.png
END:VEVENT
BEGIN:VEVENT
DTSTART;TZID=UTC:20260110T170000
DTEND;TZID=UTC:20260110T183000
DTSTAMP:20260422T125306
CREATED:20251227T182132Z
LAST-MODIFIED:20251227T222212Z
UID:1392-1768064400-1768069800@sunshinestatefsc.com
SUMMARY:Bring a Buddy Skate
DESCRIPTION:Bring a Buddy Skate\nBring a friend and join us for a fun Bring a Buddy Skate! Skaters are welcome to invite a buddy to skate with them during this special session. \n\nCost:  Free\nRink A\nIce Time:  5:15–6:15 PM\nArrival Time:  Please plan to arrive by 5:00 PM to allow time to get skates on and be ready for the ice.\n\nAlthough this event is free\, RSVP is required to help with planning. Please reserve your spot using the SignUpGenius link below: \nSignupGenius Link: https://www.signupgenius.com/go/10C0A4DAAAB22A3F9C52-61381730-bring
URL:https://sunshinestatefsc.com/event/bring-a-buddy-skate/
LOCATION:AdventHealth Center Ice\, 3173 Cypress Ridge Blvd\, Wesley Chapel\, FL\, 33544\, United States
CATEGORIES:Club Event
END:VEVENT
BEGIN:VEVENT
DTSTART;TZID=UTC:20260111T173000
DTEND;TZID=UTC:20260111T183000
DTSTAMP:20260422T125306
CREATED:20251227T175504Z
LAST-MODIFIED:20251227T223349Z
UID:1395-1768152600-1768156200@sunshinestatefsc.com
SUMMARY:Synchro Send Off
DESCRIPTION:Date: Sunday\, January 11\, 2026 \nExhibition Time:  5:30 – 5:45 PM \nCupcake Celebration:  6:00 – 6:30 PM \nHelp us send the Open Juvenile (OJ) team off to Eastern Sectionals with a synchronized skating exhibition! The team will perform their program as a final showcase before competition. After the exhibition\, join us off the ice for cupcakes and a chance to wish the skaters luck. \nFriends\, family\, and supporters are encouraged to attend and cheer them on!
URL:https://sunshinestatefsc.com/event/synchro-send-off/
LOCATION:AdventHealth Center Ice\, 3173 Cypress Ridge Blvd\, Wesley Chapel\, FL\, 33544\, United States
END:VEVENT
BEGIN:VEVENT
DTSTART;VALUE=DATE:20260116
DTEND;VALUE=DATE:20260117
DTSTAMP:20260422T125306
CREATED:20251117T183414Z
LAST-MODIFIED:20251117T214104Z
UID:1325-1768521600-1768607999@sunshinestatefsc.com
SUMMARY:January Virtual Test Session
DESCRIPTION:Registration Opens – The 1st of the month. \nVideo Submission Deadline: Wednesday\, Jan. 14\, 2026 at 11:59pm EST. \nPlease login to your membership account to register a family member for this test session. \nRegistration available via the SSFSC Entryeeze: https://comp.entryeeze.com/Membership/Welcome.aspx?cid=447
URL:https://sunshinestatefsc.com/event/january-virtual-test-session-2/
LOCATION:AdventHealth Center Ice\, 3173 Cypress Ridge Blvd\, Wesley Chapel\, FL\, 33544\, United States
CATEGORIES:Virtual Test Session
ATTACH;FMTTYPE=image/png:https://sunshinestatefsc.com/wp-content/uploads/2024/09/VirtualTestSessionGraphic.png
END:VEVENT
END:VCALENDAR